BEGIN:VCALENDAR
VERSION:2.0
PRODID:-//TG Biberach Volleyball - ECPv6.15.18//NONSGML v1.0//EN
CALSCALE:GREGORIAN
METHOD:PUBLISH
X-WR-CALNAME:TG Biberach Volleyball
X-ORIGINAL-URL:https://volleyballtgbc.de
X-WR-CALDESC:Veranstaltungen für TG Biberach Volleyball
REFRESH-INTERVAL;VALUE=DURATION:PT1H
X-Robots-Tag:noindex
X-PUBLISHED-TTL:PT1H
BEGIN:VTIMEZONE
TZID:Europe/Berlin
BEGIN:DAYLIGHT
TZOFFSETFROM:+0100
TZOFFSETTO:+0200
TZNAME:CEST
DTSTART:20250330T010000
END:DAYLIGHT
BEGIN:STANDARD
TZOFFSETFROM:+0200
TZOFFSETTO:+0100
TZNAME:CET
DTSTART:20251026T010000
END:STANDARD
BEGIN:DAYLIGHT
TZOFFSETFROM:+0100
TZOFFSETTO:+0200
TZNAME:CEST
DTSTART:20260329T010000
END:DAYLIGHT
BEGIN:STANDARD
TZOFFSETFROM:+0200
TZOFFSETTO:+0100
TZNAME:CET
DTSTART:20261025T010000
END:STANDARD
BEGIN:DAYLIGHT
TZOFFSETFROM:+0100
TZOFFSETTO:+0200
TZNAME:CEST
DTSTART:20270328T010000
END:DAYLIGHT
BEGIN:STANDARD
TZOFFSETFROM:+0200
TZOFFSETTO:+0100
TZNAME:CET
DTSTART:20271031T010000
END:STANDARD
END:VTIMEZONE
BEGIN:VEVENT
DTSTART;TZID=Europe/Berlin:20260328T110000
DTEND;TZID=Europe/Berlin:20260328T170000
DTSTAMP:20260420T121823
CREATED:20260225T142652Z
LAST-MODIFIED:20260225T142653Z
UID:18430-1774695600-1774717200@volleyballtgbc.de
SUMMARY:Bezirkspokalfinale Herren + Damen
DESCRIPTION:
URL:https://volleyballtgbc.de/event/bezirkspokalfinale-herren-damen/
LOCATION:Wilhelm-Leger-Halle\, Wilhelm-Leger-Straße 2\, Biberach an der Riß\, Baden-Württemberg\, 88400\, Deutschland
CATEGORIES:Herren I
END:VEVENT
BEGIN:VEVENT
DTSTART;TZID=Europe/Berlin:20260322T130000
DTEND;TZID=Europe/Berlin:20260322T150000
DTSTAMP:20260420T121823
CREATED:20250918T144045Z
LAST-MODIFIED:20250918T144046Z
UID:17860-1774184400-1774191600@volleyballtgbc.de
SUMMARY:Damen 3
DESCRIPTION:vs. SV Hauerz
URL:https://volleyballtgbc.de/event/damen-3-24/
LOCATION:Friedrich-Schiedel-Halle Dietmanns\, Am Schulplatz 2\, Bad Wurzach-Dietmanns\, 88410
CATEGORIES:Damen III
END:VEVENT
BEGIN:VEVENT
DTSTART;TZID=Europe/Berlin:20260322T120000
DTEND;TZID=Europe/Berlin:20260322T140000
DTSTAMP:20260420T121823
CREATED:20250927T121337Z
LAST-MODIFIED:20250927T121337Z
UID:18004-1774180800-1774188000@volleyballtgbc.de
SUMMARY:Damen 7 / SG3
DESCRIPTION:vs. TG Bad Waldsee 3
URL:https://volleyballtgbc.de/event/damen-7-sg3-12/
LOCATION:Sporthalle Eugen-Bolz-Schule\, Steinacherstr. 39\, Bad Waldsee\, 88339
CATEGORIES:SG SVO III/TGBC VII
END:VEVENT
BEGIN:VEVENT
DTSTART;TZID=Europe/Berlin:20260322T110000
DTEND;TZID=Europe/Berlin:20260322T130000
DTSTAMP:20260420T121823
CREATED:20250918T140327Z
LAST-MODIFIED:20250918T140327Z
UID:17822-1774177200-1774184400@volleyballtgbc.de
SUMMARY:Damen 2 / SG1
DESCRIPTION:vs. SV Hauerz
URL:https://volleyballtgbc.de/event/damen-2-sg1-12/
LOCATION:Friedrich-Schiedel-Halle Dietmanns\, Am Schulplatz 2\, Bad Wurzach-Dietmanns\, 88410
CATEGORIES:SG SVO/TGBC II
END:VEVENT
BEGIN:VEVENT
DTSTART;TZID=Europe/Berlin:20260322T100000
DTEND;TZID=Europe/Berlin:20260322T120000
DTSTAMP:20260420T121823
CREATED:20250919T081900Z
LAST-MODIFIED:20250919T081900Z
UID:17930-1774173600-1774180800@volleyballtgbc.de
SUMMARY:Damen 5 / SG2
DESCRIPTION:vs. TG Bad Waldsee 3
URL:https://volleyballtgbc.de/event/damen-5-sg2-11/
LOCATION:Sporthalle Eugen-Bolz-Schule\, Steinacherstr. 39\, Bad Waldsee\, 88339
CATEGORIES:SG SVO II/TGBC V
END:VEVENT
BEGIN:VEVENT
DTSTART;TZID=Europe/Berlin:20260321T200000
DTEND;TZID=Europe/Berlin:20260321T220000
DTSTAMP:20260420T121823
CREATED:20250916T134307Z
LAST-MODIFIED:20250916T134308Z
UID:17787-1774123200-1774130400@volleyballtgbc.de
SUMMARY:Damen 1
DESCRIPTION:vs. SV Frickenhofen
URL:https://volleyballtgbc.de/event/damen-1-34/
LOCATION:Wilhelm-Leger-Halle\, Wilhelm-Leger-Straße 2\, Biberach an der Riß\, Baden-Württemberg\, 88400\, Deutschland
CATEGORIES:Damen I
END:VEVENT
BEGIN:VEVENT
DTSTART;TZID=Europe/Berlin:20260321T160000
DTEND;TZID=Europe/Berlin:20260321T180000
DTSTAMP:20260420T121823
CREATED:20250927T122549Z
LAST-MODIFIED:20250927T122549Z
UID:18026-1774108800-1774116000@volleyballtgbc.de
SUMMARY:Herren 1
DESCRIPTION:vs. TSG Bad Wurzach
URL:https://volleyballtgbc.de/event/herren-1-20/
LOCATION:Riedsporthalle\, Schulzentrum 10\, Bad Wurzach\, 88410
CATEGORIES:Herren I
END:VEVENT
BEGIN:VEVENT
DTSTART;TZID=Europe/Berlin:20260321T140000
DTEND;TZID=Europe/Berlin:20260321T180000
DTSTAMP:20260420T121823
CREATED:20250919T103424Z
LAST-MODIFIED:20250919T103424Z
UID:17964-1774101600-1774116000@volleyballtgbc.de
SUMMARY:Damen 6
DESCRIPTION:vs. SC Göggingen 2 // SV Muttensweiler 2
URL:https://volleyballtgbc.de/event/damen-6-21/
LOCATION:Wilhelm-Leger-Halle\, Wilhelm-Leger-Straße 2\, Biberach an der Riß\, Baden-Württemberg\, 88400\, Deutschland
CATEGORIES:Damen VI
END:VEVENT
BEGIN:VEVENT
DTSTART;TZID=Europe/Berlin:20260315T150000
DTEND;TZID=Europe/Berlin:20260315T170000
DTSTAMP:20260420T121823
CREATED:20250916T133917Z
LAST-MODIFIED:20250916T133917Z
UID:17784-1773586800-1773594000@volleyballtgbc.de
SUMMARY:Damen 1
DESCRIPTION:vs. TSV G.A. Stuttgart 2
URL:https://volleyballtgbc.de/event/damen-1-33/
LOCATION:Allianz-Sporthalle\, Heßbrühlstr. 10\, Stuttgart-Vaihingen\, 70565
CATEGORIES:Damen I
END:VEVENT
BEGIN:VEVENT
DTSTART;TZID=Europe/Berlin:20260308T110000
DTEND;TZID=Europe/Berlin:20260308T150000
DTSTAMP:20260420T121823
CREATED:20250927T122451Z
LAST-MODIFIED:20250927T122451Z
UID:18024-1772967600-1772982000@volleyballtgbc.de
SUMMARY:Herren 1
DESCRIPTION:vs. SSV Ulm 1846 2 // SC Göggingen 2
URL:https://volleyballtgbc.de/event/herren-1-19/
LOCATION:Wilhelm-Leger-Halle\, Wilhelm-Leger-Straße 2\, Biberach an der Riß\, Baden-Württemberg\, 88400\, Deutschland
CATEGORIES:Herren I
END:VEVENT
BEGIN:VEVENT
DTSTART;TZID=Europe/Berlin:20260308T100000
DTEND;TZID=Europe/Berlin:20260308T170000
DTSTAMP:20260420T121823
CREATED:20250928T084750Z
LAST-MODIFIED:20250928T084750Z
UID:18082-1772964000-1772989200@volleyballtgbc.de
SUMMARY:Mixed
DESCRIPTION:vs. SV Frohnstetten // TSV Langenau
URL:https://volleyballtgbc.de/event/mixed-13/
LOCATION:Sporthalle Wiblingen\, Buchauer Straße 9\, Ulm\, Germany
END:VEVENT
BEGIN:VEVENT
DTSTART;TZID=Europe/Berlin:20260307T200000
DTEND;TZID=Europe/Berlin:20260307T220000
DTSTAMP:20260420T121823
CREATED:20250916T133724Z
LAST-MODIFIED:20250916T133724Z
UID:17782-1772913600-1772920800@volleyballtgbc.de
SUMMARY:Damen 1
DESCRIPTION:vs. SSV Ulm 1846
URL:https://volleyballtgbc.de/event/damen-1-32/
LOCATION:Wilhelm-Leger-Halle\, Wilhelm-Leger-Straße 2\, Biberach an der Riß\, Baden-Württemberg\, 88400\, Deutschland
CATEGORIES:Damen I
END:VEVENT
BEGIN:VEVENT
DTSTART;TZID=Europe/Berlin:20260307T160000
DTEND;TZID=Europe/Berlin:20260307T180000
DTSTAMP:20260420T121823
CREATED:20250919T103102Z
LAST-MODIFIED:20250919T103102Z
UID:17962-1772899200-1772906400@volleyballtgbc.de
SUMMARY:Damen 6
DESCRIPTION:vs. SV Bad Buchau
URL:https://volleyballtgbc.de/event/damen-6-20/
LOCATION:Federseehalle\, Auf dem Bahndamm 3\, Bad Buchau\, 88422
CATEGORIES:Damen VI
END:VEVENT
BEGIN:VEVENT
DTSTART;TZID=Europe/Berlin:20260307T140000
DTEND;TZID=Europe/Berlin:20260307T180000
DTSTAMP:20260420T121823
CREATED:20250927T125227Z
LAST-MODIFIED:20250927T125227Z
UID:18056-1772892000-1772906400@volleyballtgbc.de
SUMMARY:Herren 2
DESCRIPTION:vs. KSV Unterkirchberg 2 // VC Baustetten 2
URL:https://volleyballtgbc.de/event/herren-2-16/
LOCATION:Wilhelm-Leger-Halle\, Wilhelm-Leger-Straße 2\, Biberach an der Riß\, Baden-Württemberg\, 88400\, Deutschland
CATEGORIES:Herren II
END:VEVENT
BEGIN:VEVENT
DTSTART;TZID=Europe/Berlin:20260307T140000
DTEND;TZID=Europe/Berlin:20260307T180000
DTSTAMP:20260420T121824
CREATED:20250927T121232Z
LAST-MODIFIED:20250927T121232Z
UID:18002-1772892000-1772906400@volleyballtgbc.de
SUMMARY:Damen 7 / SG3
DESCRIPTION:vs. TSB Ravensburg 2 // SC Göggingen 2
URL:https://volleyballtgbc.de/event/damen-7-sg3-11/
LOCATION:Wilhelm-Leger-Halle\, Wilhelm-Leger-Straße 2\, Biberach an der Riß\, Baden-Württemberg\, 88400\, Deutschland
CATEGORIES:SG SVO III/TGBC VII
END:VEVENT
BEGIN:VEVENT
DTSTART;TZID=Europe/Berlin:20260307T140000
DTEND;TZID=Europe/Berlin:20260307T180000
DTSTAMP:20260420T121824
CREATED:20250919T081800Z
LAST-MODIFIED:20250919T081800Z
UID:17928-1772892000-1772906400@volleyballtgbc.de
SUMMARY:Damen 5 / SG2
DESCRIPTION:vs. SV Muttensweiler 2 // TG Bad Waldsee 2
URL:https://volleyballtgbc.de/event/damen-5-sg2-10/
LOCATION:Sporthalle Herrschaftsbrühl\, Riedstraße 44\, Ochsenhausen\, 88416
CATEGORIES:SG SVO II/TGBC V
END:VEVENT
BEGIN:VEVENT
DTSTART;TZID=Europe/Berlin:20260307T140000
DTEND;TZID=Europe/Berlin:20260307T180000
DTSTAMP:20260420T121824
CREATED:20250918T143957Z
LAST-MODIFIED:20250918T143958Z
UID:17858-1772892000-1772906400@volleyballtgbc.de
SUMMARY:Damen 3
DESCRIPTION:vs. TSB Ravensburg // SC Göggingen
URL:https://volleyballtgbc.de/event/damen-3-23/
LOCATION:Wilhelm-Leger-Halle\, Wilhelm-Leger-Straße 2\, Biberach an der Riß\, Baden-Württemberg\, 88400\, Deutschland
CATEGORIES:Damen III
END:VEVENT
BEGIN:VEVENT
DTSTART;TZID=Europe/Berlin:20260307T140000
DTEND;TZID=Europe/Berlin:20260307T180000
DTSTAMP:20260420T121824
CREATED:20250918T140153Z
LAST-MODIFIED:20260128T122229Z
UID:17819-1772892000-1772906400@volleyballtgbc.de
SUMMARY:Damen 2 / SG1
DESCRIPTION:vs. SG Volley Alb/Brenztal II // SV Horgenzell
URL:https://volleyballtgbc.de/event/damen-2-sg1-11/
LOCATION:Wilhelm-Leger-Halle\, Wilhelm-Leger-Straße 2\, Biberach an der Riß\, Baden-Württemberg\, 88400\, Deutschland
CATEGORIES:SG SVO/TGBC II
END:VEVENT
BEGIN:VEVENT
DTSTART;TZID=Europe/Berlin:20260301T100000
DTEND;TZID=Europe/Berlin:20260301T190000
DTSTAMP:20260420T121824
CREATED:20250918T135949Z
LAST-MODIFIED:20260113T163500Z
UID:17817-1772359200-1772391600@volleyballtgbc.de
SUMMARY:U20w Württembergische Meisterschaft
DESCRIPTION:TG Biberach vs. SpVgg Holzgerlingen // Allianz MTV Stuttgart // ? // ? // ? \nim Bezirk Ost
URL:https://volleyballtgbc.de/event/u20w-wuerttembergische-meisterschaft/
CATEGORIES:U20w LS
END:VEVENT
BEGIN:VEVENT
DTSTART;TZID=Europe/Berlin:20260228T130000
DTEND;TZID=Europe/Berlin:20260228T180000
DTSTAMP:20260420T121824
CREATED:20260225T143710Z
LAST-MODIFIED:20260225T152654Z
UID:18434-1772283600-1772301600@volleyballtgbc.de
SUMMARY:U13 weiblich
DESCRIPTION:vs. VC Baustetten 3+4 // SV Ochsenhausen 1+2
URL:https://volleyballtgbc.de/event/u13-weiblich-2/
LOCATION:Mehrzweckhalle Laupheim\, Laubachweg 50\, 88471
CATEGORIES:U13w
END:VEVENT
BEGIN:VEVENT
DTSTART;TZID=Europe/Berlin:20260228T103000
DTEND;TZID=Europe/Berlin:20260228T170000
DTSTAMP:20260420T121824
CREATED:20260119T125050Z
LAST-MODIFIED:20260119T125050Z
UID:18394-1772274600-1772298000@volleyballtgbc.de
SUMMARY:U16m Pokal
DESCRIPTION:TG Biberach vs. TSV G.A. Stuttgart // TV Rottenburg
URL:https://volleyballtgbc.de/event/u16m-pokal/
LOCATION:Sporthalle Eugen-Bolz-Schule\, Steinacherstr. 39\, Bad Waldsee\, 88339
CATEGORIES:U16m
END:VEVENT
BEGIN:VEVENT
DTSTART;TZID=Europe/Berlin:20260228T103000
DTEND;TZID=Europe/Berlin:20260228T170000
DTSTAMP:20260420T121824
CREATED:20260119T124615Z
LAST-MODIFIED:20260119T125123Z
UID:18392-1772274600-1772298000@volleyballtgbc.de
SUMMARY:U20m Pokal
DESCRIPTION:TG Biberach vs. TV 02 Langenargen 1 & 2 // SV Oberzell // SG Lindau/Kressbronn // VC Baustetten
URL:https://volleyballtgbc.de/event/u20m-pokal/
LOCATION:Wilhelm-Leger-Halle\, Wilhelm-Leger-Straße 2\, Biberach an der Riß\, Baden-Württemberg\, 88400\, Deutschland
CATEGORIES:U20m BS
END:VEVENT
BEGIN:VEVENT
DTSTART;TZID=Europe/Berlin:20260228T103000
DTEND;TZID=Europe/Berlin:20260228T170000
DTSTAMP:20260420T121824
CREATED:20260119T122621Z
LAST-MODIFIED:20260119T122622Z
UID:18389-1772274600-1772298000@volleyballtgbc.de
SUMMARY:U20w Pokal
DESCRIPTION:SG SV Ochsenhausen/TG Biberach vs. TSV Lindau // VfB Ulm // TSV Laupheim 1 // TV Kressbronn // VSG Illertal
URL:https://volleyballtgbc.de/event/u20w-pokal/
LOCATION:Rottumhalle\, Laubachweg 52\, Laupheim\, 88471\, Germany
CATEGORIES:U18w BS
END:VEVENT
BEGIN:VEVENT
DTSTART;TZID=Europe/Berlin:20260228T100000
DTEND;TZID=Europe/Berlin:20260228T150000
DTSTAMP:20260420T121824
CREATED:20260225T152937Z
LAST-MODIFIED:20260225T152937Z
UID:18439-1772272800-1772290800@volleyballtgbc.de
SUMMARY:U13 männlich
DESCRIPTION:vs. VfB Ulm // VfB Friedrichshafen 2+4
URL:https://volleyballtgbc.de/event/u13-maennlich-5/
LOCATION:Ludwig-Dürr-Halle\, Waggerhauser Straße 37\, Friedrichshafen\, 88045
CATEGORIES:U13m
END:VEVENT
BEGIN:VEVENT
DTSTART;TZID=Europe/Berlin:20260225T200000
DTEND;TZID=Europe/Berlin:20260225T220000
DTSTAMP:20260420T121824
CREATED:20260225T142114Z
LAST-MODIFIED:20260225T142114Z
UID:18428-1772049600-1772056800@volleyballtgbc.de
SUMMARY:Damen 1 Pokal
DESCRIPTION:vs. Barock Volleys MTV Ludwigsburg
URL:https://volleyballtgbc.de/event/damen-1-pokal-2/
LOCATION:Wilhelm-Leger-Halle\, Wilhelm-Leger-Straße 2\, Biberach an der Riß\, Baden-Württemberg\, 88400\, Deutschland
CATEGORIES:Damen I
END:VEVENT
BEGIN:VEVENT
DTSTART;TZID=Europe/Berlin:20260222T160000
DTEND;TZID=Europe/Berlin:20260222T180000
DTSTAMP:20260420T121824
CREATED:20250916T133242Z
LAST-MODIFIED:20250916T133243Z
UID:17778-1771776000-1771783200@volleyballtgbc.de
SUMMARY:Damen 1
DESCRIPTION:vs. Barock Volleys MTV Ludwigsburg 2
URL:https://volleyballtgbc.de/event/damen-1-30/
LOCATION:Wilhelm-Leger-Halle\, Wilhelm-Leger-Straße 2\, Biberach an der Riß\, Baden-Württemberg\, 88400\, Deutschland
CATEGORIES:Damen I
END:VEVENT
BEGIN:VEVENT
DTSTART;TZID=Europe/Berlin:20260222T130000
DTEND;TZID=Europe/Berlin:20260222T150000
DTSTAMP:20260420T121824
CREATED:20250927T125120Z
LAST-MODIFIED:20250927T125120Z
UID:18054-1771765200-1771772400@volleyballtgbc.de
SUMMARY:Herren 2
DESCRIPTION:vs. VSG Illertal III
URL:https://volleyballtgbc.de/event/herren-2-15/
LOCATION:ASV Halle\, Sportanlage 2\, Bellenberg\, 892887
CATEGORIES:Herren II
END:VEVENT
BEGIN:VEVENT
DTSTART;TZID=Europe/Berlin:20260222T120000
DTEND;TZID=Europe/Berlin:20260222T140000
DTSTAMP:20260420T121824
CREATED:20250918T143605Z
LAST-MODIFIED:20250918T143902Z
UID:17854-1771761600-1771768800@volleyballtgbc.de
SUMMARY:Damen 3
DESCRIPTION:vs. SG Volley Alb/Brenztal II
URL:https://volleyballtgbc.de/event/damen-3-22/
LOCATION:Lindenhalle\, Querstr. 14\, Gerstetten-Dettingen\, 89547
CATEGORIES:Damen III
END:VEVENT
BEGIN:VEVENT
DTSTART;TZID=Europe/Berlin:20260222T110000
DTEND;TZID=Europe/Berlin:20260222T130000
DTSTAMP:20260420T121824
CREATED:20250927T121126Z
LAST-MODIFIED:20250927T121126Z
UID:18000-1771758000-1771765200@volleyballtgbc.de
SUMMARY:Damen 7 / SG3
DESCRIPTION:vs. SV Muttensweiler 2
URL:https://volleyballtgbc.de/event/damen-7-sg3-10/
LOCATION:Mehrzweckhalle Ingoldingen\, Niederbergstraße 11\, Ingoldingen\, 88456
CATEGORIES:SG SVO III/TGBC VII
END:VEVENT
BEGIN:VEVENT
DTSTART;TZID=Europe/Berlin:20260221T160000
DTEND;TZID=Europe/Berlin:20260221T180000
DTSTAMP:20260420T121824
CREATED:20250919T081206Z
LAST-MODIFIED:20250919T081206Z
UID:17926-1771689600-1771696800@volleyballtgbc.de
SUMMARY:Damen5 / SG2
DESCRIPTION:vs. TSB Ravensburg 2
URL:https://volleyballtgbc.de/event/damen5-sg2/
LOCATION:Sporthalle bei den Gymnasien\, Elisabethenstraße 6\, Ravensburg\, 88212\, Germany
CATEGORIES:SG SVO II/TGBC V
END:VEVENT
END:VCALENDAR